BEGIN:VCALENDAR
VERSION:2.0
PRODID:-//CPN Cultural Heritage Center - ECPv6.15.20//NONSGML v1.0//EN
CALSCALE:GREGORIAN
METHOD:PUBLISH
X-WR-CALNAME:CPN Cultural Heritage Center
X-ORIGINAL-URL:https://www.potawatomiheritage.com
X-WR-CALDESC:Events for CPN Cultural Heritage Center
REFRESH-INTERVAL;VALUE=DURATION:PT1H
X-Robots-Tag:noindex
X-PUBLISHED-TTL:PT1H
BEGIN:VTIMEZONE
TZID:UTC
BEGIN:STANDARD
TZOFFSETFROM:+0000
TZOFFSETTO:+0000
TZNAME:UTC
DTSTART:20240101T000000
END:STANDARD
END:VTIMEZONE
BEGIN:VEVENT
DTSTART;TZID=UTC:20250507T090000
DTEND;TZID=UTC:20250507T160000
DTSTAMP:20260420T011700
CREATED:20250506T212406Z
LAST-MODIFIED:20250506T212406Z
UID:10000865-1746608400-1746633600@www.potawatomiheritage.com
SUMMARY:Cultural Skills Workshop: Basic Twining/Weaving Technique
DESCRIPTION:During this class\, participants will learn basic twining/weaving technique. To register\, contact chcculturalactivities@potawatomi.org.
URL:https://www.potawatomiheritage.com/event/cultural-skills-workshop-basic-twining-weaving-technique/
LOCATION:CPN Cultural Heritage Center\, 1899 S. Gordon Cooper Dr.\, Shawnee\, OK\, 74801\, United States
CATEGORIES:Classes,Workshops
ATTACH;FMTTYPE=image/jpeg:https://www.potawatomiheritage.com/wp-content/uploads/2025/05/TwiningWeaving-Flyer-scaled.jpg
END:VEVENT
END:VCALENDAR