BEGIN:VCALENDAR
VERSION:2.0
PRODID:-//CPN Cultural Heritage Center - ECPv6.15.20//NONSGML v1.0//EN
CALSCALE:GREGORIAN
METHOD:PUBLISH
X-WR-CALNAME:CPN Cultural Heritage Center
X-ORIGINAL-URL:https://www.potawatomiheritage.com
X-WR-CALDESC:Events for CPN Cultural Heritage Center
REFRESH-INTERVAL;VALUE=DURATION:PT1H
X-Robots-Tag:noindex
X-PUBLISHED-TTL:PT1H
BEGIN:VTIMEZONE
TZID:UTC
BEGIN:STANDARD
TZOFFSETFROM:+0000
TZOFFSETTO:+0000
TZNAME:UTC
DTSTART:20250101T000000
END:STANDARD
END:VTIMEZONE
BEGIN:VEVENT
DTSTART;TZID=UTC:20260429T173000
DTEND;TZID=UTC:20260429T183000
DTSTAMP:20260425T031647
CREATED:20260310T193523Z
LAST-MODIFIED:20260310T193523Z
UID:10001553-1777483800-1777487400@www.potawatomiheritage.com
SUMMARY:Intermediate Language Course
DESCRIPTION:This 6-week hybrid course will run from April 1 through May 6. Join in-person at the Cultural Heritage Center or online. RSVP to language@potawatomi.org.
URL:https://www.potawatomiheritage.com/event/intermediate-language-course/2026-04-29/
LOCATION:CPN Cultural Heritage Center\, 1899 S. Gordon Cooper Dr.\, Shawnee\, OK\, 74801\, United States
CATEGORIES:Classes
ATTACH;FMTTYPE=image/jpeg:https://www.potawatomiheritage.com/wp-content/uploads/2026/03/260109-6-Week-Intermediate-Language-Class.jpg
END:VEVENT
BEGIN:VEVENT
DTSTART;TZID=UTC:20260506T173000
DTEND;TZID=UTC:20260506T183000
DTSTAMP:20260425T031647
CREATED:20260310T193523Z
LAST-MODIFIED:20260310T193523Z
UID:10001554-1778088600-1778092200@www.potawatomiheritage.com
SUMMARY:Intermediate Language Course
DESCRIPTION:This 6-week hybrid course will run from April 1 through May 6. Join in-person at the Cultural Heritage Center or online. RSVP to language@potawatomi.org.
URL:https://www.potawatomiheritage.com/event/intermediate-language-course/2026-05-06/
LOCATION:CPN Cultural Heritage Center\, 1899 S. Gordon Cooper Dr.\, Shawnee\, OK\, 74801\, United States
CATEGORIES:Classes
ATTACH;FMTTYPE=image/jpeg:https://www.potawatomiheritage.com/wp-content/uploads/2026/03/260109-6-Week-Intermediate-Language-Class.jpg
END:VEVENT
END:VCALENDAR