BEGIN:VCALENDAR
VERSION:2.0
PRODID:-//CPN Cultural Heritage Center - ECPv6.15.20//NONSGML v1.0//EN
CALSCALE:GREGORIAN
METHOD:PUBLISH
X-ORIGINAL-URL:https://www.potawatomiheritage.com
X-WR-CALDESC:Events for CPN Cultural Heritage Center
REFRESH-INTERVAL;VALUE=DURATION:PT1H
X-Robots-Tag:noindex
X-PUBLISHED-TTL:PT1H
BEGIN:VTIMEZONE
TZID:UTC
BEGIN:STANDARD
TZOFFSETFROM:+0000
TZOFFSETTO:+0000
TZNAME:UTC
DTSTART:20240101T000000
END:STANDARD
END:VTIMEZONE
BEGIN:VEVENT
DTSTART;TZID=UTC:20250409T100000
DTEND;TZID=UTC:20250409T120000
DTSTAMP:20260421T133207
CREATED:20250325T150858Z
LAST-MODIFIED:20250325T152754Z
UID:10000754-1744192800-1744200000@www.potawatomiheritage.com
SUMMARY:Cultural Skills Class: Shawl Fringing
DESCRIPTION:During this class\, participants will work on techniques for fringing and embellishing dance shawls. Contact chcculturalactivities@potawatomi.org with questions or to register.
URL:https://www.potawatomiheritage.com/event/cultural-skills-class-shawl-fringing/
LOCATION:OK
CATEGORIES:Classes,Workshops
ATTACH;FMTTYPE=image/jpeg:https://www.potawatomiheritage.com/wp-content/uploads/2025/01/skills.jpg
END:VEVENT
BEGIN:VEVENT
DTSTART;TZID=UTC:20250409T130000
DTEND;TZID=UTC:20250409T160000
DTSTAMP:20260421T133207
CREATED:20250225T155948Z
LAST-MODIFIED:20260106T172037Z
UID:10000572-1744203600-1744214400@www.potawatomiheritage.com
SUMMARY:Bead and Tea
DESCRIPTION:This is a class for all levels\, join us to drink tea and share your knowledge or learn from others. Tools are provided and we encourage you to bring your own projects and cup for seasonal tea tasting. \nFor more info\, email chcculturalactivities@potawatomi.org
URL:https://www.potawatomiheritage.com/event/bead-and-tea-3/2025-04-09/
LOCATION:CPN Cultural Heritage Center\, 1899 S. Gordon Cooper Dr.\, Shawnee\, OK\, 74801\, United States
CATEGORIES:Classes,Workshops
ATTACH;FMTTYPE=image/jpeg:https://www.potawatomiheritage.com/wp-content/uploads/2025/01/bead-tea.jpg
ORGANIZER;CN="Citizen Potawatomi Nation":MAILTO:info@potawatomi.org
END:VEVENT
BEGIN:VEVENT
DTSTART;TZID=UTC:20250409T153000
DTEND;TZID=UTC:20250409T163000
DTSTAMP:20260421T133207
CREATED:20250225T161048Z
LAST-MODIFIED:20250415T142419Z
UID:10000703-1744212600-1744216200@www.potawatomiheritage.com
SUMMARY:Potawatomi Language Conversational Class
DESCRIPTION:This online class will focus on speaking Potawatomi as well as listening and comprehension. Join online at cpn.news/conversational. Email language@potawatomi.org with questions.
URL:https://www.potawatomiheritage.com/event/potawatomi-language-conversational-class/2025-04-09/
LOCATION:Zoom
CATEGORIES:Classes
ATTACH;FMTTYPE=image/jpeg:https://www.potawatomiheritage.com/wp-content/uploads/2025/02/conversational-header.jpg
END:VEVENT
END:VCALENDAR